BEGIN:VCALENDAR
VERSION:2.0
PRODID:-//La Couvertoirade - ECPv4.0.5//NONSGML v1.0//EN
CALSCALE:GREGORIAN
METHOD:PUBLISH
X-WR-CALNAME:La Couvertoirade
X-ORIGINAL-URL:https://lacouvertoirade.com
X-WR-CALDESC:Events for La Couvertoirade
BEGIN:VEVENT
DTSTART;TZID="UTC+1":20250202T150000
DTEND;TZID="UTC+1":20250202T200000
DTSTAMP:20260422T170723
CREATED:20250121T094201
LAST-MODIFIED:20250124T112726
UID:2458-1738508400-1738526400@lacouvertoirade.com
SUMMARY:LOTO
DESCRIPTION:Bonjour à tous\,\n\nDes précisions pour notre LOTO du dimanche 2 février à 15h :\n\n\tla dotation dépassera 1.000 € avec\, par exemple\, des lots de valeur comm une platine disque avec des 33 tours\, une friteuse sans huile\, un jambon de 5-6 kg\, et plein de lots variés\n\tà noter : une tombola pour un ordinateur portable 15\,6 pouces\, Windows 11\, reconditionné à neuf par Ordi Solidaires France\n\tpour info : nous ouvrirons 2 salles de 60 + 20 places avec relais par vidéo transmission...\n\tpossibilité\, en cas de non-disponibilité ou absence\,  d'acheter des tickets de tombola (3€ le ticket) ou des cartons de jeu que nous jouerons pour vous (3€ le carton\, 8€ les 3\, 10€ les 5).\n\nEn ces temps d'hiver\, nous espérons proposer un animation populaire sympa et ... richement dotée !\n\nBienvenue à tous !\n\nPour le Bureau de l'Association\n\nJean François MONTANARI
URL:https://lacouvertoirade.com/event/loto/
LOCATION:Mairie\, La Couvertoirade\, Aveyron\, 12230\, France
CATEGORIES:A faire - A voir
ATTACH;FMTTYPE=image/jpeg:https://lacouvertoirade.com/wp-content/uploads/2025/01/annonce-2-Loto-2025.jpg
ORGANIZER;CN="Association%20Larzac%20Sports%20et%20Loisirs":MAILTO:association.larzacsportsetloisirs@orange.fr
END:VEVENT
END:VCALENDAR