BEGIN:VCALENDAR
VERSION:2.0
PRODID:-//La Couvertoirade - ECPv4.0.5//NONSGML v1.0//EN
CALSCALE:GREGORIAN
METHOD:PUBLISH
X-WR-CALNAME:La Couvertoirade
X-ORIGINAL-URL:https://lacouvertoirade.com
X-WR-CALDESC:Events for La Couvertoirade
BEGIN:VEVENT
DTSTART;TZID="UTC+1":20260627T100000
DTEND;TZID="UTC+1":20260628T170000
DTSTAMP:20260425T142807
CREATED:20260425T082242
LAST-MODIFIED:20260425T082242
UID:2612-1782554400-1782666000@lacouvertoirade.com
SUMMARY:Les Enfarinades
DESCRIPTION:
URL:https://lacouvertoirade.com/event/les-enfarinades-5/
LOCATION:Le Moulin\, La Couvertoirade\, Aveyron\, 12230\, France
CATEGORIES:A faire - A voir
ATTACH;FMTTYPE=image/jpeg:https://lacouvertoirade.com/wp-content/uploads/2026/04/Affiche-A4-2728juin2026.jpg
END:VEVENT
END:VCALENDAR