BEGIN:VCALENDAR
VERSION:2.0
PRODID:-//La Couvertoirade - ECPv4.0.5//NONSGML v1.0//EN
CALSCALE:GREGORIAN
METHOD:PUBLISH
X-WR-CALNAME:La Couvertoirade
X-ORIGINAL-URL:https://lacouvertoirade.com
X-WR-CALDESC:Events for La Couvertoirade
BEGIN:VEVENT
DTSTART;TZID="UTC+1":20240622T110000
DTEND;TZID="UTC+1":20240623T160000
DTSTAMP:20260422T165613
CREATED:20240513T095602
LAST-MODIFIED:20240513T095602
UID:2396-1719054000-1719158400@lacouvertoirade.com
SUMMARY:Les Enfarinades
DESCRIPTION:
URL:https://lacouvertoirade.com/event/les-enfarinades-2/
LOCATION:Le Moulin\, La Couvertoirade\, Aveyron\, 12230\, France
CATEGORIES:A faire - A voir
ATTACH;FMTTYPE=image/jpeg:https://lacouvertoirade.com/wp-content/uploads/2024/05/Affiche-Enfarinades-2.jpg
END:VEVENT
END:VCALENDAR