BEGIN:VCALENDAR
VERSION:2.0
PRODID:-//La Couvertoirade - ECPv4.0.5//NONSGML v1.0//EN
CALSCALE:GREGORIAN
METHOD:PUBLISH
X-WR-CALNAME:La Couvertoirade
X-ORIGINAL-URL:https://lacouvertoirade.com
X-WR-CALDESC:Events for La Couvertoirade
BEGIN:VEVENT
DTSTART;TZID="UTC+1":20230711T100000
DTEND;TZID="UTC+1":20230829T123000
DTSTAMP:20260422T183501
CREATED:20230402T162300
LAST-MODIFIED:20230402T162300
UID:2217-1689069600-1693312200@lacouvertoirade.com
SUMMARY:Le moulin du Rédounel
DESCRIPTION:
URL:https://lacouvertoirade.com/event/le-moulin-du-redounel-2/
LOCATION:Le Moulin\, La Couvertoirade\, Aveyron\, 12230\, France
CATEGORIES:A faire - A voir
ATTACH;FMTTYPE=image/jpeg:https://lacouvertoirade.com/wp-content/uploads/2023/04/2023-moulins-visites.jpg
END:VEVENT
END:VCALENDAR