BEGIN:VCALENDAR
VERSION:2.0
PRODID:-//La Couvertoirade - ECPv4.0.5//NONSGML v1.0//EN
CALSCALE:GREGORIAN
METHOD:PUBLISH
X-WR-CALNAME:La Couvertoirade
X-ORIGINAL-URL:https://lacouvertoirade.com
X-WR-CALDESC:Events for La Couvertoirade
BEGIN:VEVENT
DTSTART;TZID="UTC+1":20250928T100000
DTEND;TZID="UTC+1":20250928T170000
DTSTAMP:20260422T165817
CREATED:20250127T172855
LAST-MODIFIED:20250127T172855
UID:2489-1759053600-1759078800@lacouvertoirade.com
SUMMARY:La fabuleuse histoire du mouton qui voulait voler
DESCRIPTION:
URL:https://lacouvertoirade.com/event/la-fabuleuse-histoire-du-mouton-qui-voulait-voler/
LOCATION:La Couvertoirade\, Aveyron\, 12230\, France
CATEGORIES:A faire - A voir
ATTACH;FMTTYPE=image/jpeg:https://lacouvertoirade.com/wp-content/uploads/2025/01/7-Montauciel.jpg
ORGANIZER;CN="Service%20Tourisme%20et%20Patrimoine":MAILTO:tourisme@lacouvertoirade.com
END:VEVENT
END:VCALENDAR