BEGIN:VCALENDAR
VERSION:2.0
PRODID:-//La Couvertoirade - ECPv4.0.5//NONSGML v1.0//EN
CALSCALE:GREGORIAN
METHOD:PUBLISH
X-WR-CALNAME:La Couvertoirade
X-ORIGINAL-URL:https://lacouvertoirade.com
X-WR-CALDESC:Events for La Couvertoirade
BEGIN:VEVENT
DTSTART;TZID="UTC+1":20250405T100000
DTEND;TZID="UTC+1":20250504T180000
DTSTAMP:20260422T171048
CREATED:20250127T172159
LAST-MODIFIED:20250127T172226
UID:2484-1743847200-1746381600@lacouvertoirade.com
SUMMARY:La demoiselle de l'aube
DESCRIPTION:
URL:https://lacouvertoirade.com/event/la-demoiselle-de-laube/
LOCATION:La Couvertoirade\, Aveyron\, 12230\, France
CATEGORIES:A faire - A voir
ATTACH;FMTTYPE=image/jpeg:https://lacouvertoirade.com/wp-content/uploads/2025/01/3-Jeu-printemps-A4.jpg
ORGANIZER;CN="Service%20Tourisme%20et%20Patrimoine":MAILTO:tourisme@lacouvertoirade.com
END:VEVENT
END:VCALENDAR