BEGIN:VCALENDAR
VERSION:2.0
PRODID:-//La Couvertoirade - ECPv4.0.5//NONSGML v1.0//EN
CALSCALE:GREGORIAN
METHOD:PUBLISH
X-WR-CALNAME:La Couvertoirade
X-ORIGINAL-URL:https://lacouvertoirade.com
X-WR-CALDESC:Events for La Couvertoirade
BEGIN:VEVENT
DTSTART;TZID="UTC+1":20251109T110000
DTEND;TZID="UTC+1":20251109T170000
DTSTAMP:20260422T170905
CREATED:20251103T081859
LAST-MODIFIED:20251103T081859
UID:2576-1762686000-1762707600@lacouvertoirade.com
SUMMARY:Fête du pain
DESCRIPTION:
URL:https://lacouvertoirade.com/event/fete-du-pain-3/
LOCATION:Cazejourdes\, 12230\, France
CATEGORIES:A faire - A voir
ATTACH;FMTTYPE=image/jpeg:https://lacouvertoirade.com/wp-content/uploads/2025/11/Fete-du-pain-09nov2025.jpg
END:VEVENT
END:VCALENDAR