BEGIN:VCALENDAR
VERSION:2.0
PRODID:-//La Couvertoirade - ECPv4.0.5//NONSGML v1.0//EN
CALSCALE:GREGORIAN
METHOD:PUBLISH
X-WR-CALNAME:La Couvertoirade
X-ORIGINAL-URL:https://lacouvertoirade.com
X-WR-CALDESC:Events for La Couvertoirade
BEGIN:VEVENT
DTSTART;TZID="UTC+1":20241026T110000
DTEND;TZID="UTC+1":20241026T160000
DTSTAMP:20260422T184742
CREATED:20240513T100016
LAST-MODIFIED:20240513T100104
UID:2400-1729940400-1729958400@lacouvertoirade.com
SUMMARY:Fête du pain
DESCRIPTION:
URL:https://lacouvertoirade.com/event/fete-du-pain-2/
LOCATION:Cazejourdes\, 12230\, France
CATEGORIES:A faire - A voir
ATTACH;FMTTYPE=image/jpeg:https://lacouvertoirade.com/wp-content/uploads/2024/05/Affiche-Fete-du-four.jpg
END:VEVENT
END:VCALENDAR