BEGIN:VCALENDAR
VERSION:2.0
PRODID:-//La Couvertoirade - ECPv4.0.5//NONSGML v1.0//EN
CALSCALE:GREGORIAN
METHOD:PUBLISH
X-WR-CALNAME:La Couvertoirade
X-ORIGINAL-URL:https://lacouvertoirade.com
X-WR-CALDESC:Events for La Couvertoirade
BEGIN:VEVENT
DTSTART;TZID="UTC+1":20260716T170000
DTEND;TZID="UTC+1":20260716T190000
DTSTAMP:20260425T142356
CREATED:20260425T082001
LAST-MODIFIED:20260425T082001
UID:2606-1784221200-1784228400@lacouvertoirade.com
SUMMARY:Concert Arias Baroque
DESCRIPTION:
URL:https://lacouvertoirade.com/event/concert-arias-baroque/
LOCATION:La Couvertoirade\, Aveyron\, 12230\, France
CATEGORIES:A faire - A voir
ATTACH;FMTTYPE=image/jpeg:https://lacouvertoirade.com/wp-content/uploads/2026/04/Affiche-concert-Salama-16.07.jpg
END:VEVENT
END:VCALENDAR