BEGIN:VCALENDAR
VERSION:2.0
PRODID:-//La Couvertoirade - ECPv4.0.5//NONSGML v1.0//EN
CALSCALE:GREGORIAN
METHOD:PUBLISH
X-WR-CALNAME:La Couvertoirade
X-ORIGINAL-URL:https://lacouvertoirade.com
X-WR-CALDESC:Events for La Couvertoirade
BEGIN:VEVENT
DTSTART;TZID="UTC+1":20240801T160000
DTEND;TZID="UTC+1":20240808T180000
DTSTAMP:20260422T170932
CREATED:20240513T101601
LAST-MODIFIED:20240513T101601
UID:2412-1722528000-1723140000@lacouvertoirade.com
SUMMARY:Balades Végétales
DESCRIPTION:
URL:https://lacouvertoirade.com/event/balades-vegetales-2/
LOCATION:La Couvertoirade\, Aveyron\, 12230\, France
CATEGORIES:A faire - A voir
ATTACH;FMTTYPE=image/jpeg:https://lacouvertoirade.com/wp-content/uploads/2024/05/balades-vegetales-couvertoirade-2024.jpg
END:VEVENT
END:VCALENDAR